BEGIN:VCALENDAR
VERSION:2.0
PRODID:-//Zerspanungstechnik.de - ECPv6.15.17.1//NONSGML v1.0//EN
CALSCALE:GREGORIAN
METHOD:PUBLISH
X-ORIGINAL-URL:https://www.zerspanungstechnik.de
X-WR-CALDESC:Veranstaltungen für Zerspanungstechnik.de
REFRESH-INTERVAL;VALUE=DURATION:PT1H
X-Robots-Tag:noindex
X-PUBLISHED-TTL:PT1H
BEGIN:VTIMEZONE
TZID:Europe/Berlin
BEGIN:DAYLIGHT
TZOFFSETFROM:+0100
TZOFFSETTO:+0200
TZNAME:CEST
DTSTART:20140330T010000
END:DAYLIGHT
BEGIN:STANDARD
TZOFFSETFROM:+0200
TZOFFSETTO:+0100
TZNAME:CET
DTSTART:20141026T010000
END:STANDARD
BEGIN:DAYLIGHT
TZOFFSETFROM:+0100
TZOFFSETTO:+0200
TZNAME:CEST
DTSTART:20150329T010000
END:DAYLIGHT
BEGIN:STANDARD
TZOFFSETFROM:+0200
TZOFFSETTO:+0100
TZNAME:CET
DTSTART:20151025T010000
END:STANDARD
BEGIN:DAYLIGHT
TZOFFSETFROM:+0100
TZOFFSETTO:+0200
TZNAME:CEST
DTSTART:20160327T010000
END:DAYLIGHT
BEGIN:STANDARD
TZOFFSETFROM:+0200
TZOFFSETTO:+0100
TZNAME:CET
DTSTART:20161030T010000
END:STANDARD
END:VTIMEZONE
BEGIN:VEVENT
DTSTART;TZID=Europe/Berlin:20150423T090000
DTEND;TZID=Europe/Berlin:20150424T180000
DTSTAMP:20260421T214557
CREATED:20150305T162731Z
LAST-MODIFIED:20150306T175647Z
UID:14657-1429779600-1429898400@www.zerspanungstechnik.de
SUMMARY:Bearbeitung kubischer Bauteile
DESCRIPTION:Seminar über die neuesten Werkzeugentwicklungen für die Fräs- und Bohrungsbearbeitung sowie aktuelle Strategien in der Fertigung von Bauteilen.
URL:https://www.zerspanungstechnik.de/termin/bearbeitung-kubischer-bauteile/
LOCATION:ISCAR Germany GmbH\, Eisenstockstraße 14\, Ettlingen\, 76275 \, Deutschland
CATEGORIES:Seminar
ATTACH;FMTTYPE=image/jpeg:https://www.zerspanungstechnik.de/wp-content/uploads/2014/12/k041_150101_logo.jpg
ORGANIZER;CN="ISCAR Germany GmbH":MAILTO:i.volk@iscar.de
END:VEVENT
END:VCALENDAR