BEGIN:VCALENDAR
VERSION:2.0
PRODID:-//Zerspanungstechnik.de - ECPv6.15.17.1//NONSGML v1.0//EN
CALSCALE:GREGORIAN
METHOD:PUBLISH
X-WR-CALNAME:Zerspanungstechnik.de
X-ORIGINAL-URL:https://www.zerspanungstechnik.de
X-WR-CALDESC:Veranstaltungen für Zerspanungstechnik.de
REFRESH-INTERVAL;VALUE=DURATION:PT1H
X-Robots-Tag:noindex
X-PUBLISHED-TTL:PT1H
BEGIN:VTIMEZONE
TZID:Europe/Berlin
BEGIN:DAYLIGHT
TZOFFSETFROM:+0100
TZOFFSETTO:+0200
TZNAME:CEST
DTSTART:20250330T010000
END:DAYLIGHT
BEGIN:STANDARD
TZOFFSETFROM:+0200
TZOFFSETTO:+0100
TZNAME:CET
DTSTART:20251026T010000
END:STANDARD
BEGIN:DAYLIGHT
TZOFFSETFROM:+0100
TZOFFSETTO:+0200
TZNAME:CEST
DTSTART:20260329T010000
END:DAYLIGHT
BEGIN:STANDARD
TZOFFSETFROM:+0200
TZOFFSETTO:+0100
TZNAME:CET
DTSTART:20261025T010000
END:STANDARD
BEGIN:DAYLIGHT
TZOFFSETFROM:+0100
TZOFFSETTO:+0200
TZNAME:CEST
DTSTART:20270328T010000
END:DAYLIGHT
BEGIN:STANDARD
TZOFFSETFROM:+0200
TZOFFSETTO:+0100
TZNAME:CET
DTSTART:20271031T010000
END:STANDARD
END:VTIMEZONE
BEGIN:VEVENT
DTSTART;TZID=Europe/Berlin:20260421T090000
DTEND;TZID=Europe/Berlin:20260424T170000
DTSTAMP:20260424T111407
CREATED:20260416T091012Z
LAST-MODIFIED:20260416T091012Z
UID:87879-1776762000-1777050000@www.zerspanungstechnik.de
SUMMARY:HERMLE Hausausstellung 2026
DESCRIPTION:Die Maschinenfabrik Berthold HERMLE AG lädt vom 21. bis 24. April 2026 zur traditionellen HERMLE Hausausstellung in das Technologie- und Schulungszentrum am Stammsitz in Gosheim ein und gewährt bei umfassenden Betriebsführungen hautnahe Einblicke. \nKontakt: \nwww.hermle.de
URL:https://www.zerspanungstechnik.de/termin/hermle-hausausstellung-2026/
LOCATION:Maschinenfabrik  Berthold Hermle AG\, Industriestraße 8-12\, Gosheim\, 78559\, Deutschland
CATEGORIES:Hausmesse
ORGANIZER;CN="Maschinenfabrik  Berthold Hermle AG":MAILTO:info@hermle.de
END:VEVENT
END:VCALENDAR