BEGIN:VCALENDAR
VERSION:2.0
PRODID:-//Zerspanungstechnik.de - ECPv6.15.17.1//NONSGML v1.0//EN
CALSCALE:GREGORIAN
METHOD:PUBLISH
X-WR-CALNAME:Zerspanungstechnik.de
X-ORIGINAL-URL:https://www.zerspanungstechnik.de
X-WR-CALDESC:Veranstaltungen für Zerspanungstechnik.de
REFRESH-INTERVAL;VALUE=DURATION:PT1H
X-Robots-Tag:noindex
X-PUBLISHED-TTL:PT1H
BEGIN:VTIMEZONE
TZID:Europe/Berlin
BEGIN:DAYLIGHT
TZOFFSETFROM:+0100
TZOFFSETTO:+0200
TZNAME:CEST
DTSTART:20150329T010000
END:DAYLIGHT
BEGIN:STANDARD
TZOFFSETFROM:+0200
TZOFFSETTO:+0100
TZNAME:CET
DTSTART:20151025T010000
END:STANDARD
BEGIN:DAYLIGHT
TZOFFSETFROM:+0100
TZOFFSETTO:+0200
TZNAME:CEST
DTSTART:20160327T010000
END:DAYLIGHT
BEGIN:STANDARD
TZOFFSETFROM:+0200
TZOFFSETTO:+0100
TZNAME:CET
DTSTART:20161030T010000
END:STANDARD
BEGIN:DAYLIGHT
TZOFFSETFROM:+0100
TZOFFSETTO:+0200
TZNAME:CEST
DTSTART:20170326T010000
END:DAYLIGHT
BEGIN:STANDARD
TZOFFSETFROM:+0200
TZOFFSETTO:+0100
TZNAME:CET
DTSTART:20171029T010000
END:STANDARD
END:VTIMEZONE
BEGIN:VEVENT
DTSTART;TZID=Europe/Berlin:20161122T090000
DTEND;TZID=Europe/Berlin:20161124T170000
DTSTAMP:20260426T052417
CREATED:20161020T120205Z
LAST-MODIFIED:20161020T120205Z
UID:27384-1479805200-1480006800@www.zerspanungstechnik.de
SUMMARY:SPS IPC Drives 2016 in Nürnberg
DESCRIPTION:Messe für elektrische Automatisierung – Systeme und Komponenten
URL:https://www.zerspanungstechnik.de/termin/sps-ipc-drives-2016-in-nuernberg/
LOCATION:Messe Nürnberg\, Messeplatz 1\, Nürnberg\, 90471\, Deutschland
CATEGORIES:Fachmesse
ORGANIZER;CN="Mesago Messemanagement GmbH":MAILTO:info@mesago.com 
END:VEVENT
END:VCALENDAR