BEGIN:VCALENDAR
VERSION:2.0
PRODID:-//Zerspanungstechnik.de - ECPv6.15.17.1//NONSGML v1.0//EN
CALSCALE:GREGORIAN
METHOD:PUBLISH
X-WR-CALNAME:Zerspanungstechnik.de
X-ORIGINAL-URL:https://www.zerspanungstechnik.de
X-WR-CALDESC:Veranstaltungen für Zerspanungstechnik.de
REFRESH-INTERVAL;VALUE=DURATION:PT1H
X-Robots-Tag:noindex
X-PUBLISHED-TTL:PT1H
BEGIN:VTIMEZONE
TZID:Europe/Berlin
BEGIN:DAYLIGHT
TZOFFSETFROM:+0100
TZOFFSETTO:+0200
TZNAME:CEST
DTSTART:20200329T010000
END:DAYLIGHT
BEGIN:STANDARD
TZOFFSETFROM:+0200
TZOFFSETTO:+0100
TZNAME:CET
DTSTART:20201025T010000
END:STANDARD
BEGIN:DAYLIGHT
TZOFFSETFROM:+0100
TZOFFSETTO:+0200
TZNAME:CEST
DTSTART:20210328T010000
END:DAYLIGHT
BEGIN:STANDARD
TZOFFSETFROM:+0200
TZOFFSETTO:+0100
TZNAME:CET
DTSTART:20211031T010000
END:STANDARD
BEGIN:DAYLIGHT
TZOFFSETFROM:+0100
TZOFFSETTO:+0200
TZNAME:CEST
DTSTART:20220327T010000
END:DAYLIGHT
BEGIN:STANDARD
TZOFFSETFROM:+0200
TZOFFSETTO:+0100
TZNAME:CET
DTSTART:20221030T010000
END:STANDARD
END:VTIMEZONE
BEGIN:VEVENT
DTSTART;TZID=Europe/Berlin:20211004T090000
DTEND;TZID=Europe/Berlin:20211009T180000
DTSTAMP:20260420T001747
CREATED:20210526T050336Z
LAST-MODIFIED:20210829T094156Z
UID:59163-1633338000-1633802400@www.zerspanungstechnik.de
SUMMARY:EMO Milano 2021
DESCRIPTION:EMO Milano 2021 – Fachmesse für Werkzeugmaschinen und Metallbearbeitung
URL:https://www.zerspanungstechnik.de/termin/emo-milano-2021/
LOCATION:Messe Mailand\, viale Fulvio Testi 128\, Mailand\, 20092\, Italien
CATEGORIES:Fachmesse
ORGANIZER;CN="Ucimu-Sistemi per Produrre":MAILTO:ucimu@ucimu.it
END:VEVENT
BEGIN:VEVENT
DTSTART;TZID=Europe/Berlin:20211005T090000
DTEND;TZID=Europe/Berlin:20211007T170000
DTSTAMP:20260420T001747
CREATED:20211001T060913Z
LAST-MODIFIED:20211001T074952Z
UID:61368-1633424400-1633626000@www.zerspanungstechnik.de
SUMMARY:parts2clean
DESCRIPTION:Fachmesse für Teile und Oberflächenreinigung
URL:https://www.zerspanungstechnik.de/termin/parts2clean-3/
LOCATION:Messe Stuttgart\, Flughafenstraße/Flughafen\, Stuttgart\, Baden-Württemberg\, 70629\, Deutschland
CATEGORIES:Fachmesse
END:VEVENT
BEGIN:VEVENT
DTSTART;TZID=Europe/Berlin:20211005T090000
DTEND;TZID=Europe/Berlin:20211008T170000
DTSTAMP:20260420T001747
CREATED:20210929T065339Z
LAST-MODIFIED:20210929T065339Z
UID:61291-1633424400-1633712400@www.zerspanungstechnik.de
SUMMARY:Motek/Bondexpo
DESCRIPTION:Fachmesse zur Produktionsautomatisierung und Fügetechnik
URL:https://www.zerspanungstechnik.de/termin/motek-bondexpo/
LOCATION:Messe Stuttgart\, Flughafenstraße/Flughafen\, Stuttgart\, Baden-Württemberg\, 70629\, Deutschland
CATEGORIES:Fachmesse
ORGANIZER;CN="P. E. Schall GmbH & Co. KG":MAILTO:info@schall-messen.de
END:VEVENT
BEGIN:VEVENT
DTSTART;TZID=Europe/Berlin:20211012T090000
DTEND;TZID=Europe/Berlin:20211014T160000
DTSTAMP:20260420T001747
CREATED:20210805T092353Z
LAST-MODIFIED:20210805T092353Z
UID:60421-1634029200-1634227200@www.zerspanungstechnik.de
SUMMARY:DeburringEXPO
DESCRIPTION:Messe für Entgrattechnologien und Präzisionsoberflächen \nNeue und veränderte Fertigungstechnologien und Werkstoffe\, höhere Präzisions- und Qualitätsanforderungen\, komplexere Produktgeometrien und fortschreitende Miniaturisierung sowie der Trend zu Automatisierung und Digitalisierung – diese Herausforderungen erfordern auch beim Entgraten und Kantenverrunden sowie der Herstellung von Präzisionsoberflächen angepasste Lösungen. \nAls einzige Technologieplattform für das Entgraten\, Verrunden und die Herstellung von Präzisionsoberflächen\, ermöglicht die DeburringEXPO einen kompletten Überblick über den aktuellen Stand der Technik\,neue Entwicklungen und Trends\, Prozesse und Verfahren\, Qualitätssicherung und Dienstleistungen für diese qualitätsentscheidenden Fertigungsschritte. Das breite Angebot wird durch die Themenparks „Automatisiertes Entgraten mit Industrierobotern“\, „AM Parts Finishing“ und „Reinigen nach dem Entgraten“ abgerundet. \nEine etablierte Ergänzung des Ausstellungsprogramms für den Wissenstransfer ist das integrierte Fachforum der DeburringEXPO.
URL:https://www.zerspanungstechnik.de/termin/deburringexpo-3/
LOCATION:Messe Karlsruhe\, Messeallee 1\, Rheinstetten\, 76287 
CATEGORIES:Fachmesse
ORGANIZER;CN="fairXperts GmbH & Co. KG":MAILTO:info@fairXperts.de
END:VEVENT
BEGIN:VEVENT
DTSTART;TZID=Europe/Berlin:20211020T090000
DTEND;TZID=Europe/Berlin:20211022T180000
DTSTAMP:20260420T001747
CREATED:20211012T083242Z
LAST-MODIFIED:20211012T083543Z
UID:61494-1634720400-1634925600@www.zerspanungstechnik.de
SUMMARY:DST Dreh- und Spantage Südwest
DESCRIPTION:Die Fachmesse auf dem Messegelände Villingen-Schwenningen präsentiert von Präzisionswerkzeugen\, Werkzeugmaschinen\, peripheren Anlagen und Einrichtungen\, Software- und Steuerungssystemen bis hin zu Qualitätssicherung\, Industrie 4.0\, Energie- und Ressourceneffizienz\, Zubehör\, Dienstleistungen und ganzen Prozessketten.
URL:https://www.zerspanungstechnik.de/termin/dst-dreh-und-spantage-suedwest/
LOCATION:Villingen‐Schwenningen\, Messe 1\, Villingen‐Schwenningen\, 78056\, Deutschland
CATEGORIES:Fachmesse,Termine
END:VEVENT
END:VCALENDAR