BEGIN:VCALENDAR
VERSION:2.0
PRODID:-//Zerspanungstechnik.de - ECPv6.15.17.1//NONSGML v1.0//EN
CALSCALE:GREGORIAN
METHOD:PUBLISH
X-WR-CALNAME:Zerspanungstechnik.de
X-ORIGINAL-URL:https://www.zerspanungstechnik.de
X-WR-CALDESC:Veranstaltungen für Zerspanungstechnik.de
REFRESH-INTERVAL;VALUE=DURATION:PT1H
X-Robots-Tag:noindex
X-PUBLISHED-TTL:PT1H
BEGIN:VTIMEZONE
TZID:Europe/Berlin
BEGIN:DAYLIGHT
TZOFFSETFROM:+0100
TZOFFSETTO:+0200
TZNAME:CEST
DTSTART:20200329T010000
END:DAYLIGHT
BEGIN:STANDARD
TZOFFSETFROM:+0200
TZOFFSETTO:+0100
TZNAME:CET
DTSTART:20201025T010000
END:STANDARD
BEGIN:DAYLIGHT
TZOFFSETFROM:+0100
TZOFFSETTO:+0200
TZNAME:CEST
DTSTART:20210328T010000
END:DAYLIGHT
BEGIN:STANDARD
TZOFFSETFROM:+0200
TZOFFSETTO:+0100
TZNAME:CET
DTSTART:20211031T010000
END:STANDARD
BEGIN:DAYLIGHT
TZOFFSETFROM:+0100
TZOFFSETTO:+0200
TZNAME:CEST
DTSTART:20220327T010000
END:DAYLIGHT
BEGIN:STANDARD
TZOFFSETFROM:+0200
TZOFFSETTO:+0100
TZNAME:CET
DTSTART:20221030T010000
END:STANDARD
END:VTIMEZONE
BEGIN:VEVENT
DTSTART;TZID=Europe/Berlin:20210610T090000
DTEND;TZID=Europe/Berlin:20210610T180000
DTSTAMP:20260420T233718
CREATED:20210511T103002Z
LAST-MODIFIED:20210511T110255Z
UID:58994-1623315600-1623348000@www.zerspanungstechnik.de
SUMMARY:Moulding Expo - Virtual Innovation Day
DESCRIPTION:Mit dem Virtual Innovation Day veranstaltet das Team der Moulding Expo am 10. Juni 2021 eine erste gezielte Maßnahme auf dem Weg zur nächsten physischen Fachmesse Werkzeug\, Modell und Formenbau in 2023. Kompakt gebündelt in fünf Vortragsslots eröffnen die Messeverantwortlichen der Branche die Highlights aus dem für 2021 ursprünglich geplanten Rahmen- und Vortragsprogramm. Die deutschsprachige Online-Plattform ist kostenfrei zugänglich. \nAnmeldung: www.moulding-expo.de/vid \nProgramm: \n13:00-13:05 \nBegrüßung durch die Messe Stuttgart \n13:05-13:50 Uhr \nDer europäische Werkzeug-\, Modell- und Formenbau im Wandel \nStatus Quo\, Herausforderungen und Ausblick \n14:00-14:50 Uhr \nRoad of Tooling Innovation \nEinblicke in die Werkzeug- und Produktionskonzepte der Zukunft \n15:00-15:50 Uhr \nInnovative Fertigungsstrategien im Werkzeug-\, Modell- und Formenbau \n16:00-16:30 Uhr \nSCHOOLTOOL – Aus- und Weiterbildung neu gedacht! \n16:35-17:00 Uhr \nTooling around the world \nLänderportraits und Berichte aus internationalen Märkten \n 
URL:https://www.zerspanungstechnik.de/termin/moulding-expo-virtual-innovation-day/
CATEGORIES:Fachmesse
ORGANIZER;CN="Landesmesse Stuttgart GmbH":MAILTO:info@messe-stuttgart.de
END:VEVENT
END:VCALENDAR