BEGIN:VCALENDAR
VERSION:2.0
PRODID:-//Zerspanungstechnik.de - ECPv6.15.17.1//NONSGML v1.0//EN
CALSCALE:GREGORIAN
METHOD:PUBLISH
X-WR-CALNAME:Zerspanungstechnik.de
X-ORIGINAL-URL:https://www.zerspanungstechnik.de
X-WR-CALDESC:Veranstaltungen für Zerspanungstechnik.de
REFRESH-INTERVAL;VALUE=DURATION:PT1H
X-Robots-Tag:noindex
X-PUBLISHED-TTL:PT1H
BEGIN:VTIMEZONE
TZID:Europe/Berlin
BEGIN:DAYLIGHT
TZOFFSETFROM:+0100
TZOFFSETTO:+0200
TZNAME:CEST
DTSTART:20230326T010000
END:DAYLIGHT
BEGIN:STANDARD
TZOFFSETFROM:+0200
TZOFFSETTO:+0100
TZNAME:CET
DTSTART:20231029T010000
END:STANDARD
BEGIN:DAYLIGHT
TZOFFSETFROM:+0100
TZOFFSETTO:+0200
TZNAME:CEST
DTSTART:20240331T010000
END:DAYLIGHT
BEGIN:STANDARD
TZOFFSETFROM:+0200
TZOFFSETTO:+0100
TZNAME:CET
DTSTART:20241027T010000
END:STANDARD
BEGIN:DAYLIGHT
TZOFFSETFROM:+0100
TZOFFSETTO:+0200
TZNAME:CEST
DTSTART:20250330T010000
END:DAYLIGHT
BEGIN:STANDARD
TZOFFSETFROM:+0200
TZOFFSETTO:+0100
TZNAME:CET
DTSTART:20251026T010000
END:STANDARD
END:VTIMEZONE
BEGIN:VEVENT
DTSTART;TZID=Europe/Berlin:20240603T093000
DTEND;TZID=Europe/Berlin:20240607T170000
DTSTAMP:20260425T141453
CREATED:20240503T073923Z
LAST-MODIFIED:20240503T080004Z
UID:77863-1717407000-1717779600@www.zerspanungstechnik.de
SUMMARY:BIEMH
DESCRIPTION:Die BIEMH richtet sich an Fachleute\, die in der Automobil-\, Luft- und Raumfahrt-\, Luftfahrt-\, Zulieferer-\, Investitionsgüter-\, Metallbau-\, Energieerzeugungs-\, Hausgeräte-\, Haushaltswaren-\, Eisenbahn-\, Schneid- und Blechbearbeitungs-Zulieferer-\, Formenbau- oder Gas- und Ölindustrie tätig sind. \nAussteller/Produkte: \nWerkzeugmaschinen für die Metallzerspanung; Werkzeugmaschinen für die Metallumformung; Schneid- und Brennschneidmaschinen; Ausrüstungen für die Oberflächenbehandlung; Werkzeuge für Werkzeugmaschinen; Teile für Werkzeugmaschinen; Komponenten für Werkzeugmaschinen; Messtechnik; Software für Produktentwicklung und Fertigung; Automatisierung von Prozessen; Handhabung; Robotik; Schweißen; chemische Produkte; Werkstatt- und Unternehmensdienstleistungen. \n 
URL:https://www.zerspanungstechnik.de/termin/biemh/
LOCATION:Bilbao Exhibition Centre\, Ronda de Azkue 1\, Barakaldo\, 48902\, Spanien
CATEGORIES:Fachmesse
ORGANIZER;CN="Bilbao Exhibition Centre%2C AIMHE and AFM":MAILTO:biemh@bec.eu
END:VEVENT
END:VCALENDAR