BEGIN:VCALENDAR
VERSION:2.0
PRODID:-//Zerspanungstechnik.de - ECPv6.15.17.1//NONSGML v1.0//EN
CALSCALE:GREGORIAN
METHOD:PUBLISH
X-WR-CALNAME:Zerspanungstechnik.de
X-ORIGINAL-URL:https://www.zerspanungstechnik.de
X-WR-CALDESC:Veranstaltungen für Zerspanungstechnik.de
REFRESH-INTERVAL;VALUE=DURATION:PT1H
X-Robots-Tag:noindex
X-PUBLISHED-TTL:PT1H
BEGIN:VTIMEZONE
TZID:Europe/Berlin
BEGIN:DAYLIGHT
TZOFFSETFROM:+0100
TZOFFSETTO:+0200
TZNAME:CEST
DTSTART:20140330T010000
END:DAYLIGHT
BEGIN:STANDARD
TZOFFSETFROM:+0200
TZOFFSETTO:+0100
TZNAME:CET
DTSTART:20141026T010000
END:STANDARD
BEGIN:DAYLIGHT
TZOFFSETFROM:+0100
TZOFFSETTO:+0200
TZNAME:CEST
DTSTART:20150329T010000
END:DAYLIGHT
BEGIN:STANDARD
TZOFFSETFROM:+0200
TZOFFSETTO:+0100
TZNAME:CET
DTSTART:20151025T010000
END:STANDARD
BEGIN:DAYLIGHT
TZOFFSETFROM:+0100
TZOFFSETTO:+0200
TZNAME:CEST
DTSTART:20160327T010000
END:DAYLIGHT
BEGIN:STANDARD
TZOFFSETFROM:+0200
TZOFFSETTO:+0100
TZNAME:CET
DTSTART:20161030T010000
END:STANDARD
END:VTIMEZONE
BEGIN:VEVENT
DTSTART;TZID=Europe/Berlin:20150609T090000
DTEND;TZID=Europe/Berlin:20150609T180000
DTSTAMP:20260423T215726
CREATED:20150518T080640Z
LAST-MODIFIED:20150518T080640Z
UID:16163-1433840400-1433872800@www.zerspanungstechnik.de
SUMMARY:Innovationsforum Zerspanungstechnologie
DESCRIPTION:Während des Innovationsforums Zerspanungstechnologie werden Themen aus der Sicht von\nSchlüsselbranchen wie Werkzeug- und Formenbau\, optischer Technologien oder der Prozess- und Verfahrenstechnologie betrachtet.
URL:https://www.zerspanungstechnik.de/termin/innovationsforum-zerspanungstechnologie/
LOCATION:Tuttlinger Hallen\, Königstraße 39\, Tuttlingen\, 78532 \, Deutschland
CATEGORIES:Seminar
ORGANIZER;CN="TechnologyMountains e. V.":MAILTO:kopp@technologymountains.de
END:VEVENT
END:VCALENDAR