BEGIN:VCALENDAR
VERSION:2.0
PRODID:-//Zerspanungstechnik.de - ECPv6.15.17.1//NONSGML v1.0//EN
CALSCALE:GREGORIAN
METHOD:PUBLISH
X-WR-CALNAME:Zerspanungstechnik.de
X-ORIGINAL-URL:https://www.zerspanungstechnik.de
X-WR-CALDESC:Veranstaltungen für Zerspanungstechnik.de
REFRESH-INTERVAL;VALUE=DURATION:PT1H
X-Robots-Tag:noindex
X-PUBLISHED-TTL:PT1H
BEGIN:VTIMEZONE
TZID:Europe/Berlin
BEGIN:DAYLIGHT
TZOFFSETFROM:+0100
TZOFFSETTO:+0200
TZNAME:CEST
DTSTART:20180325T010000
END:DAYLIGHT
BEGIN:STANDARD
TZOFFSETFROM:+0200
TZOFFSETTO:+0100
TZNAME:CET
DTSTART:20181028T010000
END:STANDARD
BEGIN:DAYLIGHT
TZOFFSETFROM:+0100
TZOFFSETTO:+0200
TZNAME:CEST
DTSTART:20190331T010000
END:DAYLIGHT
BEGIN:STANDARD
TZOFFSETFROM:+0200
TZOFFSETTO:+0100
TZNAME:CET
DTSTART:20191027T010000
END:STANDARD
BEGIN:DAYLIGHT
TZOFFSETFROM:+0100
TZOFFSETTO:+0200
TZNAME:CEST
DTSTART:20200329T010000
END:DAYLIGHT
BEGIN:STANDARD
TZOFFSETFROM:+0200
TZOFFSETTO:+0100
TZNAME:CET
DTSTART:20201025T010000
END:STANDARD
END:VTIMEZONE
BEGIN:VEVENT
DTSTART;TZID=Europe/Berlin:20190508T090000
DTEND;TZID=Europe/Berlin:20190510T180000
DTSTAMP:20260424T092030
CREATED:20190305T205834Z
LAST-MODIFIED:20190424T044740Z
UID:43827-1557306000-1557511200@www.zerspanungstechnik.de
SUMMARY:CHIRON OPEN HOUSE
DESCRIPTION:‘Performance meets Precision’ beim CHIRON OPEN HOUSE in Tuttlingen. Vom 8. bis zum 10. Mai 2019 lädt CHIRON zum traditionellen Branchentreffpunkt OPEN HOUSE nach Tuttlingen. Besucher können zahlreiche Maschinen\, unter anderem neue Varianten der Baureihe 16\, live unter Span erleben.
URL:https://www.zerspanungstechnik.de/termin/chiron-open-house-2/
LOCATION:CHIRON Group SE\, Kreuzstraße 75\, Tuttlingen\,\, 78532\, Germany
CATEGORIES:Hausmesse
END:VEVENT
BEGIN:VEVENT
DTSTART;TZID=Europe/Berlin:20190508T090000
DTEND;TZID=Europe/Berlin:20190511T180000
DTSTAMP:20260424T092030
CREATED:20181210T171450Z
LAST-MODIFIED:20181210T171450Z
UID:42274-1557306000-1557597600@www.zerspanungstechnik.de
SUMMARY:HAUSAUSSTELLUNG HERMLE AG
DESCRIPTION:Hausausstellung bei der Maschinenfabrik Berthold Hermle AG in Gosheim.
URL:https://www.zerspanungstechnik.de/termin/hausausstellung-hermle-ag/
LOCATION:Maschinenfabrik  Berthold Hermle AG\, Industriestraße 8-12\, Gosheim\, 78559\, Deutschland
CATEGORIES:Hausmesse
ORGANIZER;CN="Maschinenfabrik  Berthold Hermle AG":MAILTO:info@hermle.de
END:VEVENT
BEGIN:VEVENT
DTSTART;TZID=Europe/Berlin:20190516T090000
DTEND;TZID=Europe/Berlin:20190517T180000
DTSTAMP:20260424T092030
CREATED:20181212T071017Z
LAST-MODIFIED:20190424T053655Z
UID:42291-1557997200-1558116000@www.zerspanungstechnik.de
SUMMARY:Open House bei MATSUURA
DESCRIPTION:Die Matsuura Machinery GmbH feiert das 25-jährige Firmenjubiläum mit einem Open House in Wiebaden Delkenheim.
URL:https://www.zerspanungstechnik.de/termin/open-house-bei-matsuura-2/
LOCATION:MATSUURA Machinery GmbH\, Berta-Cramer-Ring 21\, Wiesbaden-Delkenheim\, 65205
CATEGORIES:Hausmesse
ATTACH;FMTTYPE=image/jpeg:https://www.zerspanungstechnik.de/wp-content/uploads/2018/12/k185_181212_01-e1544594613922.jpg
ORGANIZER;CN="MATSUURA Machinery GmbH":MAILTO:info@matsuura.de
END:VEVENT
END:VCALENDAR