BEGIN:VCALENDAR
VERSION:2.0
PRODID:-//Zerspanungstechnik.de - ECPv6.15.17.1//NONSGML v1.0//EN
CALSCALE:GREGORIAN
METHOD:PUBLISH
X-WR-CALNAME:Zerspanungstechnik.de
X-ORIGINAL-URL:https://www.zerspanungstechnik.de
X-WR-CALDESC:Veranstaltungen für Zerspanungstechnik.de
REFRESH-INTERVAL;VALUE=DURATION:PT1H
X-Robots-Tag:noindex
X-PUBLISHED-TTL:PT1H
BEGIN:VTIMEZONE
TZID:Europe/Berlin
BEGIN:DAYLIGHT
TZOFFSETFROM:+0100
TZOFFSETTO:+0200
TZNAME:CEST
DTSTART:20230326T010000
END:DAYLIGHT
BEGIN:STANDARD
TZOFFSETFROM:+0200
TZOFFSETTO:+0100
TZNAME:CET
DTSTART:20231029T010000
END:STANDARD
BEGIN:DAYLIGHT
TZOFFSETFROM:+0100
TZOFFSETTO:+0200
TZNAME:CEST
DTSTART:20240331T010000
END:DAYLIGHT
BEGIN:STANDARD
TZOFFSETFROM:+0200
TZOFFSETTO:+0100
TZNAME:CET
DTSTART:20241027T010000
END:STANDARD
BEGIN:DAYLIGHT
TZOFFSETFROM:+0100
TZOFFSETTO:+0200
TZNAME:CEST
DTSTART:20250330T010000
END:DAYLIGHT
BEGIN:STANDARD
TZOFFSETFROM:+0200
TZOFFSETTO:+0100
TZNAME:CET
DTSTART:20251026T010000
END:STANDARD
END:VTIMEZONE
BEGIN:VEVENT
DTSTART;TZID=Europe/Berlin:20241009T090000
DTEND;TZID=Europe/Berlin:20241012T170000
DTSTAMP:20260424T014702
CREATED:20240723T045517Z
LAST-MODIFIED:20240723T045517Z
UID:78913-1728464400-1728752400@www.zerspanungstechnik.de
SUMMARY:BI-MU
DESCRIPTION:Vom 9. bis 12. Oktober 2024 findet in Fieramilano Rho die 34. Ausgabe der BI-MU statt\, der wichtigsten italienischen Fachmesse für die Herstellung von spanenden und umformenden Werkzeugmaschinen\, Robotern\, Automatisierungssystemen\, digitaler und additiver Fertigung\, Hilfs- und Basistechnologien. \n 
URL:https://www.zerspanungstechnik.de/termin/bi-mu/
LOCATION:Messe Mailand\, viale Fulvio Testi 128\, Mailand\, 20092\, Italien
CATEGORIES:Fachmesse
END:VEVENT
END:VCALENDAR