BEGIN:VCALENDAR
VERSION:2.0
PRODID:-//Zerspanungstechnik.de - ECPv6.15.17.1//NONSGML v1.0//EN
CALSCALE:GREGORIAN
METHOD:PUBLISH
X-ORIGINAL-URL:https://www.zerspanungstechnik.de
X-WR-CALDESC:Veranstaltungen für Zerspanungstechnik.de
REFRESH-INTERVAL;VALUE=DURATION:PT1H
X-Robots-Tag:noindex
X-PUBLISHED-TTL:PT1H
BEGIN:VTIMEZONE
TZID:Europe/Berlin
BEGIN:DAYLIGHT
TZOFFSETFROM:+0100
TZOFFSETTO:+0200
TZNAME:CEST
DTSTART:20200329T010000
END:DAYLIGHT
BEGIN:STANDARD
TZOFFSETFROM:+0200
TZOFFSETTO:+0100
TZNAME:CET
DTSTART:20201025T010000
END:STANDARD
BEGIN:DAYLIGHT
TZOFFSETFROM:+0100
TZOFFSETTO:+0200
TZNAME:CEST
DTSTART:20210328T010000
END:DAYLIGHT
BEGIN:STANDARD
TZOFFSETFROM:+0200
TZOFFSETTO:+0100
TZNAME:CET
DTSTART:20211031T010000
END:STANDARD
BEGIN:DAYLIGHT
TZOFFSETFROM:+0100
TZOFFSETTO:+0200
TZNAME:CEST
DTSTART:20220327T010000
END:DAYLIGHT
BEGIN:STANDARD
TZOFFSETFROM:+0200
TZOFFSETTO:+0100
TZNAME:CET
DTSTART:20221030T010000
END:STANDARD
END:VTIMEZONE
BEGIN:VEVENT
DTSTART;TZID=Europe/Berlin:20211004T090000
DTEND;TZID=Europe/Berlin:20211009T180000
DTSTAMP:20260420T003015
CREATED:20210526T050336Z
LAST-MODIFIED:20210829T094156Z
UID:59163-1633338000-1633802400@www.zerspanungstechnik.de
SUMMARY:EMO Milano 2021
DESCRIPTION:EMO Milano 2021 – Fachmesse für Werkzeugmaschinen und Metallbearbeitung
URL:https://www.zerspanungstechnik.de/termin/emo-milano-2021/
LOCATION:Messe Mailand\, viale Fulvio Testi 128\, Mailand\, 20092\, Italien
CATEGORIES:Fachmesse
ORGANIZER;CN="Ucimu-Sistemi per Produrre":MAILTO:ucimu@ucimu.it
END:VEVENT
END:VCALENDAR