BEGIN:VCALENDAR
VERSION:2.0
PRODID:-//Zerspanungstechnik.de - ECPv6.15.17.1//NONSGML v1.0//EN
CALSCALE:GREGORIAN
METHOD:PUBLISH
X-WR-CALNAME:Zerspanungstechnik.de
X-ORIGINAL-URL:https://www.zerspanungstechnik.de
X-WR-CALDESC:Veranstaltungen für Zerspanungstechnik.de
REFRESH-INTERVAL;VALUE=DURATION:PT1H
X-Robots-Tag:noindex
X-PUBLISHED-TTL:PT1H
BEGIN:VTIMEZONE
TZID:Europe/Berlin
BEGIN:DAYLIGHT
TZOFFSETFROM:+0100
TZOFFSETTO:+0200
TZNAME:CEST
DTSTART:20190331T010000
END:DAYLIGHT
BEGIN:STANDARD
TZOFFSETFROM:+0200
TZOFFSETTO:+0100
TZNAME:CET
DTSTART:20191027T010000
END:STANDARD
BEGIN:DAYLIGHT
TZOFFSETFROM:+0100
TZOFFSETTO:+0200
TZNAME:CEST
DTSTART:20200329T010000
END:DAYLIGHT
BEGIN:STANDARD
TZOFFSETFROM:+0200
TZOFFSETTO:+0100
TZNAME:CET
DTSTART:20201025T010000
END:STANDARD
BEGIN:DAYLIGHT
TZOFFSETFROM:+0100
TZOFFSETTO:+0200
TZNAME:CEST
DTSTART:20210328T010000
END:DAYLIGHT
BEGIN:STANDARD
TZOFFSETFROM:+0200
TZOFFSETTO:+0100
TZNAME:CET
DTSTART:20211031T010000
END:STANDARD
END:VTIMEZONE
BEGIN:VEVENT
DTSTART;TZID=Europe/Berlin:20200318T090000
DTEND;TZID=Europe/Berlin:20200321T180000
DTSTAMP:20260425T145700
CREATED:20200311T103753Z
LAST-MODIFIED:20200311T104239Z
UID:51696-1584522000-1584813600@www.zerspanungstechnik.de
SUMMARY:!Verschoben! GROB-Hausmesse
DESCRIPTION:Es wurde daher entschieden\, den Termin der Hausmesse zu verschieben. GROB wird die Lage in den nächsten zwei Monaten kritisch verfolgen und auf dieser Grundlage dann eine Entscheidung treffen\, wann die Hausmesse stattfinden wird.
URL:https://www.zerspanungstechnik.de/termin/grob-hausmesse-2/
LOCATION:GROB-WERK Mindelheim\, Industriestraße 4 \, Mindelheim \, 87719 \, Deutschland
CATEGORIES:Hausmesse
ORGANIZER;CN="GROB-WERKE GmbH & Co. KG":MAILTO:info@de.grobgroup.com
END:VEVENT
END:VCALENDAR