BEGIN:VCALENDAR
VERSION:2.0
PRODID:-//Zerspanungstechnik.de - ECPv6.15.17.1//NONSGML v1.0//EN
CALSCALE:GREGORIAN
METHOD:PUBLISH
X-WR-CALNAME:Zerspanungstechnik.de
X-ORIGINAL-URL:https://www.zerspanungstechnik.de
X-WR-CALDESC:Veranstaltungen für Zerspanungstechnik.de
REFRESH-INTERVAL;VALUE=DURATION:PT1H
X-Robots-Tag:noindex
X-PUBLISHED-TTL:PT1H
BEGIN:VTIMEZONE
TZID:Europe/Berlin
BEGIN:DAYLIGHT
TZOFFSETFROM:+0100
TZOFFSETTO:+0200
TZNAME:CEST
DTSTART:20150329T010000
END:DAYLIGHT
BEGIN:STANDARD
TZOFFSETFROM:+0200
TZOFFSETTO:+0100
TZNAME:CET
DTSTART:20151025T010000
END:STANDARD
BEGIN:DAYLIGHT
TZOFFSETFROM:+0100
TZOFFSETTO:+0200
TZNAME:CEST
DTSTART:20160327T010000
END:DAYLIGHT
BEGIN:STANDARD
TZOFFSETFROM:+0200
TZOFFSETTO:+0100
TZNAME:CET
DTSTART:20161030T010000
END:STANDARD
BEGIN:DAYLIGHT
TZOFFSETFROM:+0100
TZOFFSETTO:+0200
TZNAME:CEST
DTSTART:20170326T010000
END:DAYLIGHT
BEGIN:STANDARD
TZOFFSETFROM:+0200
TZOFFSETTO:+0100
TZNAME:CET
DTSTART:20171029T010000
END:STANDARD
END:VTIMEZONE
BEGIN:VEVENT
DTSTART;TZID=Europe/Berlin:20160419T090000
DTEND;TZID=Europe/Berlin:20160421T180000
DTSTAMP:20260425T001805
CREATED:20160310T092042Z
LAST-MODIFIED:20160324T085313Z
UID:22942-1461056400-1461261600@www.zerspanungstechnik.de
SUMMARY:International Solution Days bei GF
DESCRIPTION:Die GF Machining Solutions GmbH präsentiert ihr Leistungsspektrum für den Werkzeug- und Formenbau und die Herstellung von Präzisionsteilen.
URL:https://www.zerspanungstechnik.de/termin/international-solution-days-bei-gf/
LOCATION:Schorndorf\, Steinbeisstrasse 22-24\, Schorndorf\, 73614\, Deutschland
CATEGORIES:Hausmesse
ATTACH;FMTTYPE=image/jpeg:https://www.zerspanungstechnik.de/wp-content/uploads/2016/03/K013_160314_HB.jpg
ORGANIZER;CN="GF Machining Solutions GmbH":MAILTO:anmeldung.gfms.de@georgfischer.com
END:VEVENT
END:VCALENDAR