BEGIN:VCALENDAR
VERSION:2.0
PRODID:-//Zerspanungstechnik.de - ECPv6.15.17.1//NONSGML v1.0//EN
CALSCALE:GREGORIAN
METHOD:PUBLISH
X-ORIGINAL-URL:https://www.zerspanungstechnik.de
X-WR-CALDESC:Veranstaltungen für Zerspanungstechnik.de
REFRESH-INTERVAL;VALUE=DURATION:PT1H
X-Robots-Tag:noindex
X-PUBLISHED-TTL:PT1H
BEGIN:VTIMEZONE
TZID:Europe/Berlin
BEGIN:DAYLIGHT
TZOFFSETFROM:+0100
TZOFFSETTO:+0200
TZNAME:CEST
DTSTART:20190331T010000
END:DAYLIGHT
BEGIN:STANDARD
TZOFFSETFROM:+0200
TZOFFSETTO:+0100
TZNAME:CET
DTSTART:20191027T010000
END:STANDARD
BEGIN:DAYLIGHT
TZOFFSETFROM:+0100
TZOFFSETTO:+0200
TZNAME:CEST
DTSTART:20200329T010000
END:DAYLIGHT
BEGIN:STANDARD
TZOFFSETFROM:+0200
TZOFFSETTO:+0100
TZNAME:CET
DTSTART:20201025T010000
END:STANDARD
BEGIN:DAYLIGHT
TZOFFSETFROM:+0100
TZOFFSETTO:+0200
TZNAME:CEST
DTSTART:20210328T010000
END:DAYLIGHT
BEGIN:STANDARD
TZOFFSETFROM:+0200
TZOFFSETTO:+0100
TZNAME:CET
DTSTART:20211031T010000
END:STANDARD
END:VTIMEZONE
BEGIN:VEVENT
DTSTART;TZID=Europe/Berlin:20200421T090000
DTEND;TZID=Europe/Berlin:20200424T180000
DTSTAMP:20260423T090511
CREATED:20191210T090549Z
LAST-MODIFIED:20200309T073347Z
UID:50158-1587459600-1587751200@www.zerspanungstechnik.de
SUMMARY:!Abgesagt! INDEX OPEN HOUSE 2020
DESCRIPTION:In Reichenbach an der Fils präsentieren INDEX und TRAUB deren Maschinenlösungen und Dienstleistungen rund um die Prozesskette „Zerspanung“
URL:https://www.zerspanungstechnik.de/termin/index-open-house-2020/
LOCATION:Index Traub\, Plochinger Str. 48\, Deizisau\, 73779
CATEGORIES:Hausmesse
ORGANIZER;CN="INDEX-Werke GmbH & Co. KG":MAILTO:info@index-werke.de
END:VEVENT
BEGIN:VEVENT
DTSTART;TZID=Europe/Berlin:20200422T090000
DTEND;TZID=Europe/Berlin:20200425T180000
DTSTAMP:20260423T090511
CREATED:20191210T090149Z
LAST-MODIFIED:20200309T073409Z
UID:50156-1587546000-1587837600@www.zerspanungstechnik.de
SUMMARY:!Abgesagt! Hermle Hausausstellung
DESCRIPTION:Auf der Hausausstellung in Goseim zeigt die Hermle AG viele Anwendungsbeispiele auf seinen Bearbeitungszentren sowie ein interessantes Rahmenprogramm.
URL:https://www.zerspanungstechnik.de/termin/hermle-hausausstellung/
LOCATION:Maschinenfabrik  Berthold Hermle AG\, Industriestraße 8-12\, Gosheim\, 78559\, Deutschland
CATEGORIES:Hausmesse
ORGANIZER;CN="Maschinenfabrik  Berthold Hermle AG":MAILTO:info@hermle.de
END:VEVENT
END:VCALENDAR