BEGIN:VCALENDAR
VERSION:2.0
PRODID:-//Zerspanungstechnik.de - ECPv6.15.17.1//NONSGML v1.0//EN
CALSCALE:GREGORIAN
METHOD:PUBLISH
X-WR-CALNAME:Zerspanungstechnik.de
X-ORIGINAL-URL:https://www.zerspanungstechnik.de
X-WR-CALDESC:Veranstaltungen für Zerspanungstechnik.de
REFRESH-INTERVAL;VALUE=DURATION:PT1H
X-Robots-Tag:noindex
X-PUBLISHED-TTL:PT1H
BEGIN:VTIMEZONE
TZID:Europe/Berlin
BEGIN:DAYLIGHT
TZOFFSETFROM:+0100
TZOFFSETTO:+0200
TZNAME:CEST
DTSTART:20150329T010000
END:DAYLIGHT
BEGIN:STANDARD
TZOFFSETFROM:+0200
TZOFFSETTO:+0100
TZNAME:CET
DTSTART:20151025T010000
END:STANDARD
BEGIN:DAYLIGHT
TZOFFSETFROM:+0100
TZOFFSETTO:+0200
TZNAME:CEST
DTSTART:20160327T010000
END:DAYLIGHT
BEGIN:STANDARD
TZOFFSETFROM:+0200
TZOFFSETTO:+0100
TZNAME:CET
DTSTART:20161030T010000
END:STANDARD
BEGIN:DAYLIGHT
TZOFFSETFROM:+0100
TZOFFSETTO:+0200
TZNAME:CEST
DTSTART:20170326T010000
END:DAYLIGHT
BEGIN:STANDARD
TZOFFSETFROM:+0200
TZOFFSETTO:+0100
TZNAME:CET
DTSTART:20171029T010000
END:STANDARD
END:VTIMEZONE
BEGIN:VEVENT
DTSTART;TZID=Europe/Berlin:20160421T090000
DTEND;TZID=Europe/Berlin:20160421T170000
DTSTAMP:20260426T055631
CREATED:20160310T065002Z
LAST-MODIFIED:20160310T065002Z
UID:22925-1461229200-1461258000@www.zerspanungstechnik.de
SUMMARY:1st LUMEX Solutions Fair
DESCRIPTION:Mit der neuen Veranstaltungsreihe präsentiert MATSUURA exklusiv seine hauseigene Lösung im Bereich Additive Fertigung.
URL:https://www.zerspanungstechnik.de/termin/1st-lumex-solutions-fair/
LOCATION:MATSUURA Machinery GmbH\, Berta-Cramer-Ring 21\, Wiesbaden-Delkenheim\, 65205
CATEGORIES:Hausmesse
ORGANIZER;CN="MATSUURA Machinery GmbH":MAILTO:info@matsuura.de
END:VEVENT
END:VCALENDAR