BEGIN:VCALENDAR
VERSION:2.0
PRODID:-//Zerspanungstechnik.de - ECPv6.15.17.1//NONSGML v1.0//EN
CALSCALE:GREGORIAN
METHOD:PUBLISH
X-WR-CALNAME:Zerspanungstechnik.de
X-ORIGINAL-URL:https://www.zerspanungstechnik.de
X-WR-CALDESC:Veranstaltungen für Zerspanungstechnik.de
REFRESH-INTERVAL;VALUE=DURATION:PT1H
X-Robots-Tag:noindex
X-PUBLISHED-TTL:PT1H
BEGIN:VTIMEZONE
TZID:Europe/Berlin
BEGIN:DAYLIGHT
TZOFFSETFROM:+0100
TZOFFSETTO:+0200
TZNAME:CEST
DTSTART:20180325T010000
END:DAYLIGHT
BEGIN:STANDARD
TZOFFSETFROM:+0200
TZOFFSETTO:+0100
TZNAME:CET
DTSTART:20181028T010000
END:STANDARD
BEGIN:DAYLIGHT
TZOFFSETFROM:+0100
TZOFFSETTO:+0200
TZNAME:CEST
DTSTART:20190331T010000
END:DAYLIGHT
BEGIN:STANDARD
TZOFFSETFROM:+0200
TZOFFSETTO:+0100
TZNAME:CET
DTSTART:20191027T010000
END:STANDARD
BEGIN:DAYLIGHT
TZOFFSETFROM:+0100
TZOFFSETTO:+0200
TZNAME:CEST
DTSTART:20200329T010000
END:DAYLIGHT
BEGIN:STANDARD
TZOFFSETFROM:+0200
TZOFFSETTO:+0100
TZNAME:CET
DTSTART:20201025T010000
END:STANDARD
END:VTIMEZONE
BEGIN:VEVENT
DTSTART;TZID=Europe/Berlin:20190320T090000
DTEND;TZID=Europe/Berlin:20190321T170000
DTSTAMP:20260424T160038
CREATED:20190128T115316Z
LAST-MODIFIED:20190128T120323Z
UID:43097-1553072400-1553187600@www.zerspanungstechnik.de
SUMMARY:Hausmesse GF Machining Solutions
DESCRIPTION:Laser Technology Days \n20.3. 9 – 17 Uhr Thema: Additive Fertigung / Microlution\n21.3. 9 – 17 Uhr Thema: Lasertexturierung
URL:https://www.zerspanungstechnik.de/termin/hausmesse-gf-machining-solutions/
LOCATION:GF Machining Solutions GmbH\, Steinbeisstrasse 22-24\, Schorndorf\, 73614\, Deutschland
ORGANIZER;CN="GF Machining Solutions GmbH":MAILTO:anmeldung.gfms.de@georgfischer.com
END:VEVENT
BEGIN:VEVENT
DTSTART;TZID=Europe/Berlin:20190326T090000
DTEND;TZID=Europe/Berlin:20190329T180000
DTSTAMP:20260424T160038
CREATED:20190129T125220Z
LAST-MODIFIED:20190129T125220Z
UID:43141-1553590800-1553882400@www.zerspanungstechnik.de
SUMMARY:OPEN HOUSE bei INDEX TRAUB
DESCRIPTION:
URL:https://www.zerspanungstechnik.de/termin/open-house-bei-index-traub-2/
LOCATION:Index Traub\, Plochinger Str. 48\, Deizisau\, 73779
CATEGORIES:Hausmesse
ATTACH;FMTTYPE=image/jpeg:https://www.zerspanungstechnik.de/wp-content/uploads/2019/01/k172_190201_logo.jpg
ORGANIZER;CN="INDEX-Werke GmbH & Co. KG":MAILTO:info@index-werke.de
END:VEVENT
END:VCALENDAR