BEGIN:VCALENDAR
VERSION:2.0
PRODID:-//Zerspanungstechnik.de - ECPv6.15.17.1//NONSGML v1.0//EN
CALSCALE:GREGORIAN
METHOD:PUBLISH
X-ORIGINAL-URL:https://www.zerspanungstechnik.de
X-WR-CALDESC:Veranstaltungen für Zerspanungstechnik.de
REFRESH-INTERVAL;VALUE=DURATION:PT1H
X-Robots-Tag:noindex
X-PUBLISHED-TTL:PT1H
BEGIN:VTIMEZONE
TZID:Europe/Berlin
BEGIN:DAYLIGHT
TZOFFSETFROM:+0100
TZOFFSETTO:+0200
TZNAME:CEST
DTSTART:20230326T010000
END:DAYLIGHT
BEGIN:STANDARD
TZOFFSETFROM:+0200
TZOFFSETTO:+0100
TZNAME:CET
DTSTART:20231029T010000
END:STANDARD
BEGIN:DAYLIGHT
TZOFFSETFROM:+0100
TZOFFSETTO:+0200
TZNAME:CEST
DTSTART:20240331T010000
END:DAYLIGHT
BEGIN:STANDARD
TZOFFSETFROM:+0200
TZOFFSETTO:+0100
TZNAME:CET
DTSTART:20241027T010000
END:STANDARD
BEGIN:DAYLIGHT
TZOFFSETFROM:+0100
TZOFFSETTO:+0200
TZNAME:CEST
DTSTART:20250330T010000
END:DAYLIGHT
BEGIN:STANDARD
TZOFFSETFROM:+0200
TZOFFSETTO:+0100
TZNAME:CET
DTSTART:20251026T010000
END:STANDARD
END:VTIMEZONE
BEGIN:VEVENT
DTSTART;TZID=Europe/Berlin:20240423T090000
DTEND;TZID=Europe/Berlin:20240426T170000
DTSTAMP:20260425T175716
CREATED:20231122T082947Z
LAST-MODIFIED:20231122T083042Z
UID:76128-1713862800-1714150800@www.zerspanungstechnik.de
SUMMARY:Control
DESCRIPTION:Fachmesse für Qualitätssicherung
URL:https://www.zerspanungstechnik.de/termin/control/
LOCATION:Messe Stuttgart\, Flughafenstraße/Flughafen\, Stuttgart\, Baden-Württemberg\, 70629\, Deutschland
CATEGORIES:Fachmesse
ORGANIZER;CN="P. E. Schall GmbH & Co. KG":MAILTO:info@schall-messen.de
END:VEVENT
END:VCALENDAR