BEGIN:VCALENDAR
VERSION:2.0
PRODID:-//Zerspanungstechnik.de - ECPv6.15.17.1//NONSGML v1.0//EN
CALSCALE:GREGORIAN
METHOD:PUBLISH
X-WR-CALNAME:Zerspanungstechnik.de
X-ORIGINAL-URL:https://www.zerspanungstechnik.de
X-WR-CALDESC:Veranstaltungen für Zerspanungstechnik.de
REFRESH-INTERVAL;VALUE=DURATION:PT1H
X-Robots-Tag:noindex
X-PUBLISHED-TTL:PT1H
BEGIN:VTIMEZONE
TZID:Europe/Berlin
BEGIN:DAYLIGHT
TZOFFSETFROM:+0100
TZOFFSETTO:+0200
TZNAME:CEST
DTSTART:20190331T010000
END:DAYLIGHT
BEGIN:STANDARD
TZOFFSETFROM:+0200
TZOFFSETTO:+0100
TZNAME:CET
DTSTART:20191027T010000
END:STANDARD
BEGIN:DAYLIGHT
TZOFFSETFROM:+0100
TZOFFSETTO:+0200
TZNAME:CEST
DTSTART:20200329T010000
END:DAYLIGHT
BEGIN:STANDARD
TZOFFSETFROM:+0200
TZOFFSETTO:+0100
TZNAME:CET
DTSTART:20201025T010000
END:STANDARD
BEGIN:DAYLIGHT
TZOFFSETFROM:+0100
TZOFFSETTO:+0200
TZNAME:CEST
DTSTART:20210328T010000
END:DAYLIGHT
BEGIN:STANDARD
TZOFFSETFROM:+0200
TZOFFSETTO:+0100
TZNAME:CET
DTSTART:20211031T010000
END:STANDARD
END:VTIMEZONE
BEGIN:VEVENT
DTSTART;TZID=Europe/Berlin:20201021T090000
DTEND;TZID=Europe/Berlin:20201022T170000
DTSTAMP:20260422T032732
CREATED:20200728T090747Z
LAST-MODIFIED:20200728T090747Z
UID:54181-1603270800-1603386000@www.zerspanungstechnik.de
SUMMARY:IN.STAND Digital
DESCRIPTION:Die virtuelle Messe für Instandhaltung und Services
URL:https://www.zerspanungstechnik.de/termin/in-stand-digital/
LOCATION:Messe Stuttgart\, Flughafenstraße/Flughafen\, Stuttgart\, Baden-Württemberg\, 70629\, Deutschland
CATEGORIES:Fachmesse
ORGANIZER;CN="Landesmesse Stuttgart GmbH":MAILTO:info@messe-stuttgart.de
END:VEVENT
END:VCALENDAR